BEGIN:VCALENDAR
VERSION:2.0
PRODID:icalendar-ruby
CALSCALE:GREGORIAN
BEGIN:VEVENT
DTSTAMP:20260423T091403Z
UID:4aeb8865-bf55-433d-b25a-9db9f3f62961
DTSTART;VALUE=DATE:20210520
DESCRIPTION:Property ID# 508807\, Locatoin: 8 Kent Terrace\, Wellington\, T
 ime: 1:00PM
SUMMARY:Auction for 
END:VEVENT
END:VCALENDAR
