BEGIN:VCALENDAR
VERSION:2.0
PRODID:icalendar-ruby
CALSCALE:GREGORIAN
BEGIN:VEVENT
DTSTAMP:20260422T113504Z
UID:d0fb6350-613f-4597-8b9a-65aa46c00cda
DTSTART;VALUE=DATE:20250320
DESCRIPTION:Property ID# 589010\, Locatoin: 8 Kent Terrace\, Wellington (wi
 ll not be sold prior)\, Time: 12:00PM
SUMMARY:Auction for 
END:VEVENT
END:VCALENDAR
