BEGIN:VCALENDAR
VERSION:2.0
PRODID:icalendar-ruby
CALSCALE:GREGORIAN
BEGIN:VEVENT
DTSTAMP:20260423T092202Z
UID:d6597045-0b1a-4d1c-96b8-bc0412ac0207
DTSTART;VALUE=DATE:20250619
DESCRIPTION:Property ID# 593425\, Locatoin: Harcourts Tawa Realty Ltd\, 215
  Main Road\, Tawa\, Time: 4:00PM
SUMMARY:Auction for 
END:VEVENT
END:VCALENDAR
