BEGIN:VCALENDAR
VERSION:2.0
PRODID:icalendar-ruby
CALSCALE:GREGORIAN
BEGIN:VEVENT
DTSTAMP:20260424T004728Z
UID:7f323c63-6cc1-4724-ab3b-b00d1b09abf5
DTSTART;VALUE=DATE:20250821
DESCRIPTION:Property ID# 595557\, Locatoin: 8 Kent Terrace\, Wellington (wi
 ll  not be sold prior)\, Time: 12:00PM
SUMMARY:Auction for 
END:VEVENT
END:VCALENDAR
