BEGIN:VCALENDAR
VERSION:2.0
PRODID:icalendar-ruby
CALSCALE:GREGORIAN
BEGIN:VEVENT
DTSTAMP:20260424T004033Z
UID:1ff2542f-20dc-4f22-a9c2-94a8c43c3da9
DTSTART;VALUE=DATE:20251113
DESCRIPTION:Property ID# 599256\, Locatoin: 8 Kent Terrace\, Wellington (wi
 ll  not be sold prior)\, Time: 1:00PM
SUMMARY:Auction for 
END:VEVENT
END:VCALENDAR
