BEGIN:VCALENDAR
VERSION:2.0
PRODID:icalendar-ruby
CALSCALE:GREGORIAN
BEGIN:VEVENT
DTSTAMP:20260424T002531Z
UID:2417b02d-13e0-4137-9fd4-03f763cb0593
DTSTART;VALUE=DATE:20251203
DESCRIPTION:Property ID# 600335\, Locatoin: 8 Kent Terrace\, Wellington (wi
 ll  not be sold prior)\, Time: 1:00PM
SUMMARY:Auction for 
END:VEVENT
END:VCALENDAR
