BEGIN:VCALENDAR
VERSION:2.0
PRODID:icalendar-ruby
CALSCALE:GREGORIAN
BEGIN:VEVENT
DTSTAMP:20260424T002541Z
UID:bd150249-4c5e-4a20-8eea-9da763351e35
DTSTART;VALUE=DATE:20260205
DESCRIPTION:Property ID# 601092\, Locatoin: 8 Kent Terrace\, Wellington (wi
 ll not be sold prior)\, Time: 12:00PM
SUMMARY:Auction for 
END:VEVENT
END:VCALENDAR
