BEGIN:VCALENDAR
VERSION:2.0
PRODID:icalendar-ruby
CALSCALE:GREGORIAN
BEGIN:VEVENT
DTSTAMP:20260424T004058Z
UID:c869ecdf-5e7a-40dc-ba21-9e4db8cac7d2
DTSTART;VALUE=DATE:20260129
DESCRIPTION:Property ID# 601313\, Locatoin: 8 Kent Terrace\, Wellington (wi
 ll not be sold prior)\, Time: 1:00PM
SUMMARY:Auction for 
END:VEVENT
END:VCALENDAR
