BEGIN:VCALENDAR
VERSION:2.0
PRODID:icalendar-ruby
CALSCALE:GREGORIAN
BEGIN:VEVENT
DTSTAMP:20260420T084003Z
UID:68d83f71-f405-4325-8737-fd880c6df897
DTSTART;VALUE=DATE:20260506
DESCRIPTION:Property ID# 605763\, Time: 12:00PM
SUMMARY:Auction for 22/25 Tacy Street
END:VEVENT
END:VCALENDAR
