BEGIN:VCALENDAR
VERSION:2.0
PRODID:icalendar-ruby
CALSCALE:GREGORIAN
BEGIN:VEVENT
DTSTAMP:20260420T120939Z
UID:4a89df57-9b04-4719-901b-8b3a5bb9ab89
DTSTART;VALUE=DATE:20260513
DESCRIPTION:Property ID# 606767\, Locatoin: Clark & Co Realty\, 7 Mana Espl
 anade Paremata.\, Time: 12:00PM
SUMMARY:Auction for 22A Main Road
END:VEVENT
END:VCALENDAR
