BEGIN:VCALENDAR
VERSION:2.0
PRODID:icalendar-ruby
CALSCALE:GREGORIAN
BEGIN:VEVENT
DTSTAMP:20260420T120116Z
UID:afbc6b00-39dd-47b8-8deb-5cd7b795002f
DTSTART;TZID=Pacific/Auckland:20260422T171500
DTEND;TZID=Pacific/Auckland:20260422T174500
DESCRIPTION:Property ID# 606486
SUMMARY:Openhome for 4 Botany Lane\, Whitby
END:VEVENT
END:VCALENDAR
